BEGIN:VCALENDAR
VERSION:2.0
PRODID:-//ChamberMaster//Event Calendar 2.0//EN
METHOD:PUBLISH
X-PUBLISHED-TTL:P3D
REFRESH-INTERVAL:P3D
CALSCALE:GREGORIAN
BEGIN:VEVENT
DTSTART:20160319T140000Z
DTEND:20160319T200000Z
X-MICROSOFT-CDO-ALLDAYEVENT:FALSE
SUMMARY:It's A Spring Thing Craft Fair
DESCRIPTION:Annual Arts and craft fair to get you ready for Spring. Handmade craft items. Raffle. Delicious hot sandwiches - turkey and beef. There is something for everyone!
X-ALT-DESC;FMTTYPE=text/html:Annual Arts and craft fair to get you ready for Spring. Handmade craft items. Raffle. Delicious hot sandwiches - turkey and beef. There is something for everyone!
LOCATION:St Kilian School\, 264 W State Street\, Hartford\, WI 53027
UID:e.898.3513
SEQUENCE:3
DTSTAMP:20260421T115118Z
URL:https://cm.hartfordchamber.org/events/details/it-s-a-spring-thing-craft-fair-03-19-2016-3513
END:VEVENT

END:VCALENDAR
