BEGIN:VCALENDAR
VERSION:2.0
PRODID:-//ChamberMaster//Event Calendar 2.0//EN
METHOD:PUBLISH
X-PUBLISHED-TTL:P3D
REFRESH-INTERVAL:P3D
CALSCALE:GREGORIAN
BEGIN:VEVENT
DTSTART:20151015T000000Z
DTEND:20151015T023000Z
X-MICROSOFT-CDO-ALLDAYEVENT:FALSE
SUMMARY:Imprisoned Spirits: Paranormal Museum Tours
DESCRIPTION:Are the Old Washington County Courthouse and Old Jailhouse in West Bend haunted? Visit areas in both Museums where bizarre and unsettling phenomena have been experienced. 90-minute guided walking tours leave promptly at 7:00pm and at 8:30pm. Meet in front of Old Courthouse Museum 15 minutes before tour time. 320 S. 5th Avenue\, West Bend\, WI 53095 $8.00/WCHS member\, $12.00/non-member Reservations and prepayment required. Not recommended for children under 12 due to adult themes. Contact Jessica education@historyisfun.com or (262) 335-4678
X-ALT-DESC;FMTTYPE=text/html:Are the Old Washington County Courthouse and Old Jailhouse in West Bend haunted? Visit areas in both Museums where bizarre and unsettling phenomena have been experienced. 90-minute guided walking tours leave promptly at 7:00pm and at 8:30pm. Meet in front of Old Courthouse Museum 15 minutes before tour time. 320 S. 5th Avenue\, West Bend\, WI 53095 $8.00/WCHS member\, $12.00/non-member Reservations and prepayment required. Not recommended for children under 12 due to adult themes. Contact Jessica education@historyisfun.com or (262) 335-4678
LOCATION:Old Courthouse Museum 320 S 5th Ave West Bend 53095
UID:e.898.3505
SEQUENCE:3
DTSTAMP:20260421T032748Z
URL:https://cm.hartfordchamber.org/events/details/imprisoned-spirits-paranormal-museum-tours-10-14-2015-3505
END:VEVENT

END:VCALENDAR
