BEGIN:VCALENDAR
VERSION:2.0
PRODID:-//ChamberMaster//Event Calendar 2.0//EN
METHOD:PUBLISH
X-PUBLISHED-TTL:P3D
REFRESH-INTERVAL:P3D
CALSCALE:GREGORIAN
BEGIN:VEVENT
DTSTART:20140924T210000Z
DTEND:20140925T000000Z
X-MICROSOFT-CDO-ALLDAYEVENT:FALSE
SUMMARY:Ice Cream Social & Open House
DESCRIPTION:The Pavilion at Glacier Valley\n\nA Premier Rehabilitation and Senior Care Community\n\n\n\nIce Cream Social & Open House\n\n\n\nWednesday\, September 24\, 2014\n\n4:00 pm - 7:00 pm
X-ALT-DESC;FMTTYPE=text/html:<strong><span style="font-size:18px\;">The Pavilion at Glacier Valley</span></strong><br />\nA Premier Rehabilitation and Senior Care Community<br />\n<br />\nIce Cream Social &amp\; Open House<br />\n<br />\nWednesday\, September 24\, 2014<br />\n4:00 pm - 7:00 pm<br />\n&nbsp\;
LOCATION:1900 American Eagle Drive Slinger
UID:e.898.3230
SEQUENCE:3
DTSTAMP:20260420T215038Z
URL:https://cm.hartfordchamber.org/events/details/ice-cream-social-open-house-09-24-2014-3230
END:VEVENT

END:VCALENDAR
