BEGIN:VCALENDAR
VERSION:2.0
PRODID:-//ChamberMaster//Event Calendar 2.0//EN
METHOD:PUBLISH
X-PUBLISHED-TTL:P3D
REFRESH-INTERVAL:P3D
CALSCALE:GREGORIAN
BEGIN:VEVENT
DTSTART:20160728T233000Z
DTEND:20160729T033000Z
X-MICROSOFT-CDO-ALLDAYEVENT:FALSE
SUMMARY:Hunter Hayes with Julia Cole
DESCRIPTION:Thursday evening\, July 28 will feature Hunter Hayes\, a country singer/songwriter and multi-instrumentalist. Hayes is best known for his first single "Invisible" and most successful single "Wanted". Hunter was nominated in 2012 for Best New Artist at the CMA Awards and in 2013 for single of the year\, song of the year and video of the year. He won the best single and music video in 2012 at the American Country Awards for the song "Wanted". He has been a supporting act in tours by Taylor Swift\, Carrie Underwood and Lady Antebellum. The show will start at 6:30 pm with opening act Julia Cole\, a blues\, country and pop artist\, attacking every concert with her keyboard\, guitar and entrancing vocals.
X-ALT-DESC;FMTTYPE=text/html:Thursday evening\, July 28 will feature Hunter Hayes\, a country singer/songwriter and multi-instrumentalist. Hayes is best known for his first single &ldquo\;Invisible&rdquo\; and most successful single &ldquo\;Wanted&rdquo\;. Hunter was nominated in 2012 for Best New Artist at the CMA Awards and in 2013 for single of the year\, song of the year and video of the year. He won the best single and music video in 2012 at the American Country Awards for the song &ldquo\;Wanted&rdquo\;. He has been a supporting act in tours by Taylor Swift\, Carrie Underwood and Lady Antebellum. The show will start at 6:30 pm with opening act Julia Cole\, a blues\, country and pop artist\, attacking every concert with her keyboard\, guitar and entrancing vocals.
LOCATION:Washington County Fair Park
UID:e.898.3682
SEQUENCE:3
DTSTAMP:20260421T134402Z
URL:https://cm.hartfordchamber.org/events/details/hunter-hayes-with-julia-cole-07-28-2016-3682
END:VEVENT

END:VCALENDAR
