BEGIN:VCALENDAR
VERSION:2.0
PRODID:-//ChamberMaster//Event Calendar 2.0//EN
METHOD:PUBLISH
X-PUBLISHED-TTL:P3D
REFRESH-INTERVAL:P3D
CALSCALE:GREGORIAN
BEGIN:VEVENT
DTSTART:20160530T160000Z
DTEND:20160530T200000Z
X-MICROSOFT-CDO-ALLDAYEVENT:FALSE
SUMMARY:Home Front Exhibit Opening
DESCRIPTION:As part of the Memorial Day celebrations\, join us for a new exhibit\, Home Front. Home Front covers the Revolutionary War through present day and explores how conflict has affected Washington County.
X-ALT-DESC;FMTTYPE=text/html:As part of the Memorial Day celebrations\, join us for a new exhibit\, Home Front. Home Front covers the Revolutionary War through present day and explores how conflict has affected Washington County.
LOCATION:the Old Courthouse Museum 320 S 5th Ave West Bend 53095
UID:e.898.3640
SEQUENCE:3
DTSTAMP:20260421T102531Z
URL:https://cm.hartfordchamber.org/events/details/home-front-exhibit-opening-05-30-2016-3640
END:VEVENT

END:VCALENDAR
