BEGIN:VCALENDAR
VERSION:2.0
PRODID:-//ChamberMaster//Event Calendar 2.0//EN
METHOD:PUBLISH
X-PUBLISHED-TTL:P3D
REFRESH-INTERVAL:P3D
CALSCALE:GREGORIAN
BEGIN:VEVENT
DTSTART:20150711T150000Z
DTEND:20150712T030000Z
X-MICROSOFT-CDO-ALLDAYEVENT:FALSE
SUMMARY:Hillbilly Fest
DESCRIPTION:Annual Picnic at Toadally Natural Garden featuring a "Hillbilly" theme.\n\nWatch us as we do a little hay baling demonstration. Enjoy games\,food\, non-alcoholic drinks\,sun bathing\, skinny dipping in a spring feed pond\, and live music with Xeno\, the original lead singer of Cheap Trick and his violin playing partner Joe.\n\nContact us to get on the list.\n\n\n\n*This is a clothing optional event.
X-ALT-DESC;FMTTYPE=text/html:Annual Picnic at Toadally Natural Garden featuring a &quot\;Hillbilly&quot\; theme.<br />\nWatch us as we do a little hay baling demonstration. Enjoy games\,food\, non-alcoholic drinks\,sun bathing\, skinny dipping in&nbsp\;a spring feed pond\, and live music with Xeno\, the original lead singer of Cheap Trick and his violin playing partner Joe.<br />\nContact us to get&nbsp\;on the list.<br />\n<br />\n*This is a clothing optional event.
LOCATION:6601 County Road K Hartford\, WI 53027
UID:e.898.3435
SEQUENCE:3
DTSTAMP:20260420T214819Z
URL:https://cm.hartfordchamber.org/events/details/hillbilly-fest-07-11-2015-3435
END:VEVENT

END:VCALENDAR
