BEGIN:VCALENDAR
VERSION:2.0
PRODID:-//ChamberMaster//Event Calendar 2.0//EN
METHOD:PUBLISH
X-PUBLISHED-TTL:P3D
REFRESH-INTERVAL:P3D
CALSCALE:GREGORIAN
BEGIN:VEVENT
DTSTART:20250621T120000Z
DTEND:20250621T190000Z
X-MICROSOFT-CDO-ALLDAYEVENT:FALSE
SUMMARY:Hartford Rotary River Ride
DESCRIPTION:Hartford Rotary will be holding our 1st annual River Ride bicycle tour June 21st where a love for biking meets a commitment to support the Boys and Girls Club of Washington County and Hartford Bike and Skate Park.\n\nFour routes routes are available\,  40 mile\, 25 mile\, 12 mile and 3 mile family ride.   The 40\, 24 and 12 mile routes take you through the rolling hills of Washington and Dodge county.\n\n \n\n  Registration starts at 7:00 AM. You may start your ride anytime after you have checked in.\n\n 40 and 25 mile ride start no later than 8:30AM\n\n12 and 3 mile route - Plan to start your ride so that it can be completed by 12:00PM\n\n\n\n\nCourse closes at 12:00 pm. \n\n\nPlease plan your start time based on your route and expected finish time\n\nNeosho Rest Stop opens at 8:30 AM\n\n\n\nEnjoy music\, delicious food\, and refreshing drinks by the scenic Hartford Millpond after the ride. Plus\, don't miss the exciting skateboard demonstrations!\n\n\nTo register for this event click on www.hartfordrotary-wi.org/page/river-ride/
X-ALT-DESC;FMTTYPE=text/html:<h1><span style="font-size:18px"><span style="font-family:calibri">Hartford Rotary will be holding our 1<sup>st</sup></span><span style="font-family:calibri"> annual River Ride bicycle tour June 21</span><span style="font-family:calibri"><sup>st</sup> where a love for biking meets a commitment to support the Boys and Girls Club of Washington County and Hartford Bike and Skate Park.</span></span></h1>\n\n<div><span style="font-size:16px"><span style="background-color:rgb(255\, 255\, 255)\; color:rgb(34\, 34\, 34)\; font-family:open sans\,helvetica\,arial\,sans-serif">Four routes routes are available\,&nbsp\;&nbsp\;40 mile\, 25 mile\, 12 mile and 3 mile&nbsp\;family&nbsp\;ride.&nbsp\; &nbsp\;The 40\, 24 and 12&nbsp\;mile routes take you&nbsp\;through the rolling hills of Washington and Dodge county.</span></span><br />\n&nbsp\;\n<div style="text-align:center">\n<div><span style="font-size:16px">&nbsp\; Registration starts at 7:00 AM. You may start your ride anytime after you have checked in.</span></div>\n\n<div><span style="font-size:16px">&nbsp\;40 and 25 mile ride start no later than 8:30AM</span></div>\n\n<div><span style="font-size:16px">12 and 3 mile route - Plan to start your ride so that it can be completed&nbsp\;by 12:00PM</span></div>\n</div>\n\n<div style="text-align:center"><br />\n<span style="font-size:16px">Course closes at 12:00 pm.&nbsp\;</span></div>\n\n<div style="text-align:center">\n<p><span style="font-size:16px">Please plan your start time based on your route and expected finish time</span></p>\n\n<p><span style="font-size:16px">Neosho Rest Stop opens at 8:30 AM</span></p>\n</div>\n</div>\n\n<div style="text-align:center"><span style="font-size:16px">Enjoy music\, delicious food\, and refreshing drinks by the scenic Hartford Millpond after the ride. Plus\, don&rsquo\;t miss the exciting skateboard demonstrations!</span></div>\n<br />\n<span style="background-color:rgb(255\, 255\, 255)\; color:rgb(34\, 34\, 34)\; font-family:open sans\,helvetica\,arial\,sans-serif\; font-size:15px"><span style="font-size:16px">To register for this event click on www.hartfordrotary-wi.org/page/river-ride/</span></span><br />\n<br />\n&nbsp\;
LOCATION:Registration takes place in Centennial Park.
UID:e.898.7459
SEQUENCE:3
DTSTAMP:20260425T002950Z
URL:https://cm.hartfordchamber.org/events/details/hartford-rotary-river-ride-7459
END:VEVENT

END:VCALENDAR
