BEGIN:VCALENDAR
VERSION:2.0
PRODID:-//ChamberMaster//Event Calendar 2.0//EN
METHOD:PUBLISH
X-PUBLISHED-TTL:P3D
REFRESH-INTERVAL:P3D
CALSCALE:GREGORIAN
BEGIN:VEVENT
DTSTART:20160604T130000Z
DTEND:20160604T220000Z
X-MICROSOFT-CDO-ALLDAYEVENT:FALSE
SUMMARY:Hartford City Wide Rummage Sale
DESCRIPTION:Hartford City Wide Rummage Sale\n\nSaturday\, June 4\, 2016\n\n8am to 5pm
X-ALT-DESC;FMTTYPE=text/html:Hartford City Wide Rummage Sale<br />\nSaturday\, June 4\, 2016<br />\n8am to 5pm<br />\n<br />\n&nbsp\;
LOCATION:
UID:e.898.3574
SEQUENCE:3
DTSTAMP:20260421T152851Z
URL:https://cm.hartfordchamber.org/events/details/hartford-city-wide-rummage-sale-06-04-2016-3574
END:VEVENT

END:VCALENDAR
