BEGIN:VCALENDAR
VERSION:2.0
PRODID:-//ChamberMaster//Event Calendar 2.0//EN
METHOD:PUBLISH
X-PUBLISHED-TTL:P3D
REFRESH-INTERVAL:P3D
CALSCALE:GREGORIAN
BEGIN:VEVENT
DTSTART:20150714T150000Z
DTEND:20150715T000000Z
X-MICROSOFT-CDO-ALLDAYEVENT:FALSE
SUMMARY:Goldbug Golf Classic!
DESCRIPTION:Medical Center Foundation of Hartford invites you to the\n\n25th Anniversary\n\nGoldbug Golf Classic!\n\n\n\nTuesday\, July 14\, 2015\n\n\n\nHartford Golf Club\n\n7072 Lee Road\, Hartford\n\n\n\n\n\nClick HERE for flyer!
X-ALT-DESC;FMTTYPE=text/html:Medical Center Foundation of Hartford invites you to the<br />\n<strong><span style="font-size: 16px\;">25th Anniversary<br />\nGoldbug Golf Classic!</span></strong><br />\n<br />\nTuesday\, July 14\, 2015<br />\n<br />\nHartford Golf Club<br />\n7072 Lee Road\, Hartford<br />\n<br />\n<br />\nClick <a href="http://cloud.chambermaster.com/userfiles/UserFiles/chambers/898/File/flyer-GoldbugGolfClassic.pdf" target="_blank">HERE</a> for flyer!
LOCATION:
UID:e.898.3423
SEQUENCE:3
DTSTAMP:20260420T214736Z
URL:https://cm.hartfordchamber.org/events/details/goldbug-golf-classic-07-14-2015-3423
END:VEVENT

END:VCALENDAR
