BEGIN:VCALENDAR
VERSION:2.0
PRODID:-//ChamberMaster//Event Calendar 2.0//EN
METHOD:PUBLISH
X-PUBLISHED-TTL:P3D
REFRESH-INTERVAL:P3D
CALSCALE:GREGORIAN
BEGIN:VEVENT
DTSTART:20140911T130000Z
DTEND:20140911T220000Z
X-MICROSOFT-CDO-ALLDAYEVENT:FALSE
SUMMARY:Future Hartford
DESCRIPTION:Future Hartford Leadership Program\n\nClass of 2015 - Program Kick-Off\n\n\n\nApplications are now being accepted for the Future Hartford Leadership Class of 2015\; a leadership skill development program sponsored by the Hartford Area Chamber.  \n\n\n\nEnrolled candidates\, identified as leaders within their company\, participate in preparation to serve in continuous leadership roles both in their professional and personal lives.\n\n\n\nProgram days held the second Thursday of the month  begin with an educational session facilitated by MPTC on a variety of business-related topics. Dates and details are below!\n\n\n\nCandidates also receive in-depth exposure to important aspects of the community\, through a series of discussions with area business leaders and site visits\, to gain a better understanding of the significance and importance to the community. \n\n\n\nJoin the Future Hartford Class of 2015! \n\nVisit www.Hartfordchamber.org and link to Future Hartford.
X-ALT-DESC;FMTTYPE=text/html:<span style="font-size:18px\;"><strong>Future Hartford Leadership Program</strong></span><br />\n<strong><span style="font-size:14px\;"><span style="font-size:16px\;">Class of 2015 - Program Kick-Off</span></span></strong><br />\n<br />\n<span style="language:EN\;"><span style="font-family:candara\;"><span style="font-size:9.0pt\;">Applications are now being accepted for the Future Hartford Leadership Class of 2015\; a leadership skill development program sponsored by the Hartford Area Chamber.&nbsp\; </span></span></span><br />\n<br />\n<span style="language:EN\;"><span style="font-family:candara\;"><span style="font-size:9.0pt\;">Enrolled candidates\, identified as leaders within their company\, participate in preparation to serve in continuous leadership roles both in their professional and personal lives.</span></span></span><br />\n<br />\n<span style="language:EN\;"><span style="font-family:candara\;"><span style="font-size:9.0pt\;">Program days&mdash\;held the second Thursday of the month&mdash\; begin with an educational session facilitated by MPTC on a variety of business-related topics. Dates and details are below!</span></span></span><br />\n<br />\n<span style="language:EN\;"><span style="font-family:candara\;"><span style="font-size:9.0pt\;">Candidates also receive in-depth exposure to important aspects of the community\, through a series of discussions with area business leaders and site visits\, to gain a better understanding of the significance and importance to the community. </span></span></span><br />\n<br />\n<span style="language:EN\;"><span style="font-family:candara\;"><span style="font-size:9.0pt\;">Join the Future Hartford Class of 2015!&nbsp\;<br />\n<span style="font-size:18px\;"><strong>Visit </strong></span></span></span></span><span style="font-size:18px\;"><span style="font-weight: bold\;"><span style="font-family: candara\;">www.Hartfordchamber.org</span></span><span style="font-family: candara\;"> and link to </span><span style="font-style: italic\;"><span style="font-family: candara\;">Future Hartford</span></span><span style="font-family: candara\;">.</span></span><br />\n<br />\n&nbsp\;<br />\n<br />\n&nbsp\;
LOCATION:
UID:e.898.3168
SEQUENCE:3
DTSTAMP:20260420T233314Z
URL:https://cm.hartfordchamber.org/events/details/future-hartford-09-11-2014-3168
END:VEVENT

END:VCALENDAR
