BEGIN:VCALENDAR
VERSION:2.0
PRODID:-//ChamberMaster//Event Calendar 2.0//EN
METHOD:PUBLISH
X-PUBLISHED-TTL:P3D
REFRESH-INTERVAL:P3D
CALSCALE:GREGORIAN
BEGIN:VEVENT
DTSTART:20250720T120000Z
DTEND:20250720T190000Z
X-MICROSOFT-CDO-ALLDAYEVENT:FALSE
SUMMARY:Dub Daze: A Coffee and Cars Event
DESCRIPTION:Come hang at Sippie Hippie for a chill day of coffee and classic cars. \n\nThis event is free\, and we might have a few surprise gifts for those showing off your retro rides - especially the V-Dubs.\n\n\n\nSo\, bring out your classic ride\, grab a drink\, and find your vibe!
X-ALT-DESC;FMTTYPE=text/html:<p><strong>Come hang at Sippie Hippie for a chill day of coffee and classic cars.</strong><strong> </strong></p>\n\n<p><strong>This event is free\, and we might have a few surprise gifts for those showing off your retro rides - especially the V-Dubs.<br />\n<br />\nSo\, bring out your classic ride\, grab a drink\, and find your vibe!</strong></p>\n
LOCATION:319 E. Washington St\, Slinger
UID:e.898.7581
SEQUENCE:3
DTSTAMP:20260424T210002Z
URL:https://cm.hartfordchamber.org/events/details/dub-daze-a-coffee-and-cars-event-7581
END:VEVENT

END:VCALENDAR
