BEGIN:VCALENDAR
VERSION:2.0
PRODID:-//ChamberMaster//Event Calendar 2.0//EN
METHOD:PUBLISH
X-PUBLISHED-TTL:P3D
REFRESH-INTERVAL:P3D
CALSCALE:GREGORIAN
BEGIN:VEVENT
DTSTART:20250710T130000Z
DTEND:20250710T130000Z
X-MICROSOFT-CDO-ALLDAYEVENT:FALSE
SUMMARY:2026 Hartford Area Leadership Program - Class of
DESCRIPTION:Join area up and coming leaders for a unique\, community embedded leadership experience.  Delve deeper into leadership skills each month with Ane Ohm of Staffing Support Specialists and work with this year's facilitator\, Brittany Sanchez.  Develop new leadership skills\, learn more about the Hartford area and its assets\, and be introduced to non-profit organizations that give back to a thriving community.
X-ALT-DESC;FMTTYPE=text/html:Join area up and coming leaders for a unique\, community embedded leadership experience.&nbsp\; Delve deeper into leadership skills each month with Ane Ohm of Staffing Support Specialists and work with this year&#39\;s facilitator\, Brittany Sanchez.&nbsp\; Develop new leadership skills\, learn more about the Hartford area and its assets\, and be introduced to non-profit organizations that give back to a thriving community.
LOCATION:Monthly classes are held at various locations throughout the area. Participants will receive details after registration.
UID:e.898.7586
SEQUENCE:3
DTSTAMP:20260424T205930Z
URL:https://cm.hartfordchamber.org/events/details/2026-hartford-area-leadership-program-class-of-7586
END:VEVENT

END:VCALENDAR
