BEGIN:VCALENDAR
VERSION:2.0
PRODID:-//ChamberMaster//Event Calendar 2.0//EN
METHOD:PUBLISH
X-PUBLISHED-TTL:P3D
REFRESH-INTERVAL:P3D
CALSCALE:GREGORIAN
BEGIN:VEVENT
DTSTART:20250620T123000Z
DTEND:20250620T140000Z
X-MICROSOFT-CDO-ALLDAYEVENT:FALSE
SUMMARY:2025 WIN Breakfast - June - West Bend - Cedar Community
DESCRIPTION:Washington County Interactive Networking - WIN
X-ALT-DESC;FMTTYPE=text/html:<strong>Washington County Interactive Networking - WIN</strong>
LOCATION:Cedar Community 5595 Cty Rd Z West Bend\, WI 53095
UID:e.898.7448
SEQUENCE:3
DTSTAMP:20260425T003112Z
URL:https://cm.hartfordchamber.org/events/details/2025-win-breakfast-june-west-bend-cedar-community-7448
END:VEVENT

END:VCALENDAR
