BEGIN:VCALENDAR
VERSION:2.0
PRODID:-//ChamberMaster//Event Calendar 2.0//EN
METHOD:PUBLISH
X-PUBLISHED-TTL:P3D
REFRESH-INTERVAL:P3D
CALSCALE:GREGORIAN
BEGIN:VEVENT
DTSTART:20250517T150000Z
DTEND:20250517T200000Z
X-MICROSOFT-CDO-ALLDAYEVENT:FALSE
SUMMARY:2025 Classic Car Show
DESCRIPTION:PARTICIPANT GUIDELINES:\n\n1.  Cars may begin arriving at 7:30am to park\, no earlier\, no exceptions.\n\n2.  Do NOT rev engines.\n\n3.  Once parked\, you WILL NOT be able to move your car until 3pm for safety reasons. \n\n4.  Once parked please DO NOT let your vehicle idle.\n\n5.  After 3pm\, cars need to be moved from angle parking to parallel parking or risk ticketing or towing.\n\n\n\nCAR Classifications for 2025\nA: 1900-1939\n\nB: 1940-1949\n\nC: 1950-1955\n\nD: 1956-1960 \n\nE: 1961-1965 \n\nF: 1966-1969\n\nG: 1970-1979 \n\nH: 1980-1998 \n\nI: 1999-2005\n\nJ: 2006-recent (display only\, not judged)\n\n\n\nTruck Classes for 2025\n\nVT: 1900-1940\n\nOT: 1941-1970\n\nNT: 1971-2005
X-ALT-DESC;FMTTYPE=text/html:<span style="font-size:16px\;"><span style="font-family:tahoma\;">PARTICIPANT GUIDELINES:<br />\n1.&nbsp\; Cars may begin arriving at 7:30am to park\, no earlier\, no exceptions.<br />\n2.&nbsp\; Do NOT rev engines.<br />\n3.&nbsp\; Once parked\, you WILL NOT be able to move your car until 3pm for safety reasons.&nbsp\;<br />\n4.&nbsp\; Once parked please DO NOT let your vehicle idle.<br />\n5.&nbsp\; After 3pm\, cars need to be moved from angle parking to parallel parking or risk ticketing or towing.<br />\n<br />\n<span style="font-size:20px\;"><u><strong>CAR Classifications for 2025</strong></u></span></span></span>\n<p --font-size:="" --line-height:="" class="cvGsUA direction-ltr align-center para-style-body" letter-spacing:="" line-height:="" style="color: rgb(0\, 0\, 0)\; font-family: " text-transform:="" yacgese7ejq=""><span style="font-size:16px\;"><strong><span style="font-family:tahoma\;"><span class="OYPEnA text-decoration-none text-strikethrough-none">A: 1900-1939<br />\nB: 1940-1949<br />\nC: 1950-1955<br />\nD: 1956-1960<span class="OYPEnA text-decoration-none text-strikethrough-none white-space-prewrap"> </span><br />\nE: 1961-1965<span class="OYPEnA text-decoration-none text-strikethrough-none white-space-prewrap"> </span><br />\nF: 1966-1969<br />\nG: 1970-1979<span class="OYPEnA text-decoration-none text-strikethrough-none white-space-prewrap"> </span><br />\nH: 1980-1998<span class="OYPEnA text-decoration-none text-strikethrough-none white-space-prewrap"> </span><br />\nI: 1999-2005<br />\nJ: 2006-recent (display only\, not judged)<br />\n<br />\n<span style="font-size:20px\;"><u>Truck Classes for 2025</u></span></span></span></strong></span></p>\n\n<p class="cvGsUA direction-ltr align-center para-style-body" style="color: rgb(0\, 0\, 0)\; font-family: &quot\;YACgESE7eJQ 0&quot\;\, _fb_\, auto\; --font-size: 12px\; --line-height: 1.4\; letter-spacing: 0.09em\; text-transform: uppercase\; line-height: 16px\;"><span style="font-size:16px\;"><strong><span style="font-family:tahoma\;"><span class="OYPEnA text-decoration-none text-strikethrough-none">VT: 1900-1940<br />\nOT: 1941-1970<br />\nNT: 1971-2005</span></span></strong></span><br />\n<br />\n&nbsp\;</p>\n
LOCATION:Main Street | Downtown Hartford Hartford\, WI 53027 Day of Information Cars may begin arriving at 7:30am to park (no earlier\, no exceptions). Please enter North Johnson Street from Hwy 60 and follow those directing traffic. If you are with a large group and would like to group in the Rec center parking lot\, you may do so. PLEASE BE AWARE THAT ONCE YOU ARE PARKED\, YOU WILL NOT BE ABLE TO MOVE YOUR CAR UNTIL 3:00PM. Each paid registrant may submit one judging form given to you at check-in. Please return the judging form to the check in table by 1:00pm. If your ballot is turned in after\, then it will not be counted for judging.
UID:e.898.7404
SEQUENCE:3
DTSTAMP:20260425T022430Z
URL:https://cm.hartfordchamber.org/events/details/2025-classic-car-show-7404
END:VEVENT

END:VCALENDAR
