BEGIN:VCALENDAR
VERSION:2.0
PRODID:-//ChamberMaster//Event Calendar 2.0//EN
METHOD:PUBLISH
X-PUBLISHED-TTL:P3D
REFRESH-INTERVAL:P3D
CALSCALE:GREGORIAN
BEGIN:VEVENT
DTSTART:20250612T220000Z
DTEND:20250612T233000Z
X-MICROSOFT-CDO-ALLDAYEVENT:FALSE
SUMMARY:2025 After Hours\, June - Schwartz Family House
DESCRIPTION:Come network!  Meet area business partners from the Hartford Area Chamber of Commerce. Enjoy a local social hour for networking and promoting your business.
X-ALT-DESC;FMTTYPE=text/html:<p>Come network!&nbsp\; Meet area business partners from the Hartford&nbsp\;Area Chamber of Commerce.&nbsp\;Enjoy a local social hour for networking and promoting&nbsp\;your business.&nbsp\;&nbsp\;<br />\n&nbsp\;</p>\n
LOCATION:Schwartz Family House 220 Union Street Hartford WI 53027
UID:e.898.7456
SEQUENCE:3
DTSTAMP:20260425T005152Z
URL:https://cm.hartfordchamber.org/events/details/2025-after-hours-june-schwartz-family-house-7456
END:VEVENT

END:VCALENDAR
